Package: BiocSklearn Version: 1.24.0 Command: /Library/Frameworks/R.framework/Resources/bin/R CMD build --keep-empty-dirs --no-resave-data BiocSklearn StartedAt: 2024-03-03 16:01:28 -0500 (Sun, 03 Mar 2024) EndedAt: 2024-03-03 16:02:30 -0500 (Sun, 03 Mar 2024) EllapsedTime: 62.3 seconds RetCode: 0 Status: OK PackageFile: BiocSklearn_1.24.0.tar.gz PackageFileSize: 32.52 MiB