Package: BiocSklearn Version: 1.24.0 Command: rm -rf BiocSklearn.buildbin-libdir && mkdir BiocSklearn.buildbin-libdir && /Users/biocbuild/BBS/utils/build-universal.sh BiocSklearn_1.24.0.tar.gz /Library/Frameworks/R.framework/Resources/bin/R BiocSklearn.buildbin-libdir StartedAt: 2024-03-04 00:31:00 -0500 (Mon, 04 Mar 2024) EndedAt: 2024-03-04 00:31:40 -0500 (Mon, 04 Mar 2024) EllapsedTime: 39.6 seconds RetCode: 0 Status: OK PackageFile: BiocSklearn_1.24.0.tgz PackageFileSize: 32.73 MiB