Package: BiocSklearn Version: 1.24.0 Maintainer: Vince Carey MaintainerEmail: stvjc at channing.harvard.edu git_url: https://git.bioconductor.org/packages/BiocSklearn git_branch: RELEASE_3_18 git_last_commit: f1a6bdc git_last_commit_date: 2023-10-24 10:58:42 -0400 (Tue, 24 Oct 2023)