Package: BiocParallel Version: 1.36.0 Command: /Library/Frameworks/R.framework/Resources/bin/R CMD INSTALL BiocParallel StartedAt: 2024-03-03 15:10:49 -0500 (Sun, 03 Mar 2024) EndedAt: 2024-03-03 15:11:19 -0500 (Sun, 03 Mar 2024) EllapsedTime: 29.7 seconds RetCode: 0 Status: OK