Package: BiocParallel Version: 1.36.0 Command: /Library/Frameworks/R.framework/Resources/bin/R CMD build --keep-empty-dirs --no-resave-data BiocParallel StartedAt: 2024-03-03 16:01:22 -0500 (Sun, 03 Mar 2024) EndedAt: 2024-03-03 16:04:06 -0500 (Sun, 03 Mar 2024) EllapsedTime: 164.1 seconds RetCode: 0 Status: OK PackageFile: BiocParallel_1.36.0.tar.gz PackageFileSize: 973.5 KiB