Package: BiocNeighbors Version: 1.20.2 Command: chmod a+r BiocNeighbors -R && F:\biocbuild\bbs-3.18-bioc\R\bin\R.exe CMD build --keep-empty-dirs --no-resave-data BiocNeighbors StartedAt: 2024-04-15 17:13:15 -0400 (Mon, 15 Apr 2024) EndedAt: 2024-04-15 17:16:46 -0400 (Mon, 15 Apr 2024) EllapsedTime: 210.6 seconds RetCode: 0 Status: OK PackageFile: BiocNeighbors_1.20.2.tar.gz PackageFileSize: 1016 KiB