Package: BiocNeighbors Version: 1.20.2 Command: rm -rf BiocNeighbors.buildbin-libdir && mkdir BiocNeighbors.buildbin-libdir && F:\biocbuild\bbs-3.18-bioc\R\bin\R.exe CMD INSTALL --build --library=BiocNeighbors.buildbin-libdir BiocNeighbors_1.20.2.tar.gz StartedAt: 2024-04-16 06:42:27 -0400 (Tue, 16 Apr 2024) EndedAt: 2024-04-16 06:45:31 -0400 (Tue, 16 Apr 2024) EllapsedTime: 184.6 seconds RetCode: 0 Status: OK PackageFile: BiocNeighbors_1.20.2.zip PackageFileSize: 1.804 MiB