Package: BiocNeighbors Version: 1.20.2 Command: /Library/Frameworks/R.framework/Resources/bin/R CMD INSTALL BiocNeighbors StartedAt: 2024-04-15 15:25:16 -0400 (Mon, 15 Apr 2024) EndedAt: 2024-04-15 15:29:43 -0400 (Mon, 15 Apr 2024) EllapsedTime: 267.8 seconds RetCode: 0 Status: OK