Package: BiocNeighbors Version: 1.20.2 Command: /Library/Frameworks/R.framework/Resources/bin/R CMD build --keep-empty-dirs --no-resave-data BiocNeighbors StartedAt: 2024-03-03 16:01:12 -0500 (Sun, 03 Mar 2024) EndedAt: 2024-03-03 16:03:57 -0500 (Sun, 03 Mar 2024) EllapsedTime: 165.2 seconds RetCode: 0 Status: OK PackageFile: BiocNeighbors_1.20.2.tar.gz PackageFileSize: 1015 KiB