Package: BiocNeighbors Version: 1.20.2 Command: rm -rf BiocNeighbors.buildbin-libdir && mkdir BiocNeighbors.buildbin-libdir && /Users/biocbuild/BBS/utils/build-universal.sh BiocNeighbors_1.20.2.tar.gz /Library/Frameworks/R.framework/Resources/bin/R BiocNeighbors.buildbin-libdir StartedAt: 2024-03-04 00:30:56 -0500 (Mon, 04 Mar 2024) EndedAt: 2024-03-04 00:33:22 -0500 (Mon, 04 Mar 2024) EllapsedTime: 145.9 seconds RetCode: 0 Status: OK PackageFile: BiocNeighbors_1.20.2.tgz PackageFileSize: 1.451 MiB