Package: BiocIO Version: 1.12.0 Command: rm -rf BiocIO.buildbin-libdir && mkdir BiocIO.buildbin-libdir && F:\biocbuild\bbs-3.18-bioc\R\bin\R.exe CMD INSTALL --build --library=BiocIO.buildbin-libdir BiocIO_1.12.0.tar.gz StartedAt: 2024-04-16 06:42:25 -0400 (Tue, 16 Apr 2024) EndedAt: 2024-04-16 06:42:40 -0400 (Tue, 16 Apr 2024) EllapsedTime: 15.4 seconds RetCode: 0 Status: OK PackageFile: BiocIO_1.12.0.zip PackageFileSize: 408.8 KiB