Package: BiocIO Version: 1.12.0 Command: /Library/Frameworks/R.framework/Resources/bin/R CMD INSTALL BiocIO StartedAt: 2024-03-03 15:07:30 -0500 (Sun, 03 Mar 2024) EndedAt: 2024-03-03 15:08:03 -0500 (Sun, 03 Mar 2024) EllapsedTime: 33.6 seconds RetCode: 0 Status: OK