Package: BiocIO Version: 1.12.0 Command: rm -rf BiocIO.buildbin-libdir && mkdir BiocIO.buildbin-libdir && /Users/biocbuild/BBS/utils/build-universal.sh BiocIO_1.12.0.tar.gz /Library/Frameworks/R.framework/Resources/bin/R BiocIO.buildbin-libdir StartedAt: 2024-03-04 00:30:55 -0500 (Mon, 04 Mar 2024) EndedAt: 2024-03-04 00:31:04 -0500 (Mon, 04 Mar 2024) EllapsedTime: 9.2 seconds RetCode: 0 Status: OK PackageFile: BiocIO_1.12.0.tgz PackageFileSize: 409.6 KiB