Package: BiocFileCache Version: 2.10.1 Command: /home/biocbuild/R/R-4.3.1/bin/R CMD build --keep-empty-dirs --no-resave-data BiocFileCache StartedAt: 2023-11-01 22:39:37 -0000 (Wed, 01 Nov 2023) EndedAt: 2023-11-01 22:43:27 -0000 (Wed, 01 Nov 2023) EllapsedTime: 230.3 seconds RetCode: 0 Status: OK PackageFile: BiocFileCache_2.10.1.tar.gz PackageFileSize: 316.6 KiB