Package: BiocFHIR Version: 1.4.0 Command: /Library/Frameworks/R.framework/Resources/bin/R CMD check --install=check:BiocFHIR.install-out.txt --library=/Library/Frameworks/R.framework/Resources/library --no-vignettes --timings BiocFHIR_1.4.0.tar.gz StartedAt: 2024-03-03 19:11:46 -0500 (Sun, 03 Mar 2024) EndedAt: 2024-03-03 19:13:22 -0500 (Sun, 03 Mar 2024) EllapsedTime: 95.7 seconds RetCode: 0 Status: OK CheckDir: BiocFHIR.Rcheck Warnings: 0