Package: BiocFHIR Version: 1.4.0 Command: /Library/Frameworks/R.framework/Resources/bin/R CMD build --keep-empty-dirs --no-resave-data BiocFHIR StartedAt: 2024-03-03 16:00:41 -0500 (Sun, 03 Mar 2024) EndedAt: 2024-03-03 16:01:22 -0500 (Sun, 03 Mar 2024) EllapsedTime: 40.7 seconds RetCode: 0 Status: OK PackageFile: BiocFHIR_1.4.0.tar.gz PackageFileSize: 4.29 MiB