Package: BiocFHIR Version: 1.4.0 Command: /home/biocbuild/R/R-4.3.1/bin/R CMD INSTALL BiocFHIR StartedAt: 2023-11-01 20:33:53 -0000 (Wed, 01 Nov 2023) EndedAt: 2023-11-01 20:34:00 -0000 (Wed, 01 Nov 2023) EllapsedTime: 7.4 seconds RetCode: 0 Status: OK