Package: BiocDockerManager Version: 1.11.1 Command: /home/biocbuild/bbs-3.18-bioc/R/bin/R CMD INSTALL BiocDockerManager StartedAt: 2023-04-20 03:16:33 -0400 (Thu, 20 Apr 2023) EndedAt: 2023-04-20 03:16:36 -0400 (Thu, 20 Apr 2023) EllapsedTime: 3.7 seconds RetCode: 0 Status: OK