Package: BiocDockerManager Version: 1.11.1 Command: /home/biocbuild/bbs-3.18-bioc/R/bin/R CMD check --install=check:BiocDockerManager.install-out.txt --library=/home/biocbuild/bbs-3.18-bioc/R/site-library --timings BiocDockerManager_1.11.1.tar.gz StartedAt: 2023-04-20 06:25:07 -0400 (Thu, 20 Apr 2023) EndedAt: 2023-04-20 06:25:52 -0400 (Thu, 20 Apr 2023) EllapsedTime: 45.7 seconds RetCode: 1 Status: ERROR CheckDir: BiocDockerManager.Rcheck Warnings: NA