Package: BiocCheck Version: 1.38.2 Command: /Library/Frameworks/R.framework/Resources/bin/R CMD INSTALL BiocCheck StartedAt: 2024-04-15 15:23:34 -0400 (Mon, 15 Apr 2024) EndedAt: 2024-04-15 15:23:58 -0400 (Mon, 15 Apr 2024) EllapsedTime: 23.8 seconds RetCode: 0 Status: OK