Package: BiocBook Version: 1.0.0 Command: /home/biocbuild/bbs-3.18-bioc/R/bin/R CMD build --keep-empty-dirs --no-resave-data BiocBook StartedAt: 2024-04-15 16:10:34 -0400 (Mon, 15 Apr 2024) EndedAt: 2024-04-15 16:11:12 -0400 (Mon, 15 Apr 2024) EllapsedTime: 37.7 seconds RetCode: 0 Status: OK PackageFile: BiocBook_1.0.0.tar.gz PackageFileSize: 901.2 KiB