Package: BiocBook Version: 1.0.0 Command: /Library/Frameworks/R.framework/Resources/bin/R CMD INSTALL BiocBook StartedAt: 2024-04-15 15:42:38 -0400 (Mon, 15 Apr 2024) EndedAt: 2024-04-15 15:42:52 -0400 (Mon, 15 Apr 2024) EllapsedTime: 14.0 seconds RetCode: 0 Status: OK