Package: BiocBook Version: 1.0.0 Command: /Library/Frameworks/R.framework/Resources/bin/R CMD INSTALL BiocBook StartedAt: 2024-03-03 15:23:48 -0500 (Sun, 03 Mar 2024) EndedAt: 2024-03-03 15:23:57 -0500 (Sun, 03 Mar 2024) EllapsedTime: 9.6 seconds RetCode: 0 Status: OK