Package: BioTIP Version: 1.16.0 Command: /Library/Frameworks/R.framework/Resources/bin/R CMD check --install=check:BioTIP.install-out.txt --library=/Library/Frameworks/R.framework/Resources/library --no-vignettes --timings BioTIP_1.16.0.tar.gz StartedAt: 2024-04-15 23:59:27 -0400 (Mon, 15 Apr 2024) EndedAt: 2024-04-16 00:02:55 -0400 (Tue, 16 Apr 2024) EllapsedTime: 207.5 seconds RetCode: 0 Status: WARNINGS CheckDir: BioTIP.Rcheck Warnings: 2