Package: BioTIP Version: 1.16.0 Command: /home/biocbuild/R/R-4.3.1/bin/R CMD INSTALL BioTIP StartedAt: 2023-11-01 20:57:43 -0000 (Wed, 01 Nov 2023) EndedAt: 2023-11-01 20:58:01 -0000 (Wed, 01 Nov 2023) EllapsedTime: 17.3 seconds RetCode: 0 Status: OK