Package: BioTIP Version: 1.16.0 Command: /home/biocbuild/R/R-4.3.1/bin/R CMD build --keep-empty-dirs --no-resave-data BioTIP StartedAt: 2023-11-01 22:46:09 -0000 (Wed, 01 Nov 2023) EndedAt: 2023-11-01 22:51:29 -0000 (Wed, 01 Nov 2023) EllapsedTime: 319.4 seconds RetCode: 0 Status: OK PackageFile: BioTIP_1.16.0.tar.gz PackageFileSize: 41.2 MiB