Package: BioQC Version: 1.30.0 Command: /Library/Frameworks/R.framework/Resources/bin/R CMD build --keep-empty-dirs --no-resave-data BioQC StartedAt: 2024-04-15 17:16:35 -0400 (Mon, 15 Apr 2024) EndedAt: 2024-04-15 17:21:05 -0400 (Mon, 15 Apr 2024) EllapsedTime: 270.1 seconds RetCode: 0 Status: OK PackageFile: BioQC_1.30.0.tar.gz PackageFileSize: 4.299 MiB