Package: BioQC Version: 1.30.0 Command: /home/biocbuild/R/R-4.3.1/bin/R CMD INSTALL BioQC StartedAt: 2023-11-01 20:12:00 -0000 (Wed, 01 Nov 2023) EndedAt: 2023-11-01 20:12:20 -0000 (Wed, 01 Nov 2023) EllapsedTime: 19.7 seconds RetCode: 0 Status: OK