Package: BioQC Version: 1.30.0 Command: /home/biocbuild/R/R-4.3.1/bin/R CMD check --install=check:BioQC.install-out.txt --library=/home/biocbuild/R/R-4.3.1/site-library --no-vignettes --timings BioQC_1.30.0.tar.gz StartedAt: 2023-11-02 08:48:19 -0000 (Thu, 02 Nov 2023) EndedAt: 2023-11-02 08:49:13 -0000 (Thu, 02 Nov 2023) EllapsedTime: 54.1 seconds RetCode: 0 Status: OK CheckDir: BioQC.Rcheck Warnings: 0