Package: BioNetStat Version: 1.22.0 Command: /home/biocbuild/R/R-4.3.1/bin/R CMD INSTALL BioNetStat StartedAt: 2023-11-01 20:37:54 -0000 (Wed, 01 Nov 2023) EndedAt: 2023-11-01 20:38:22 -0000 (Wed, 01 Nov 2023) EllapsedTime: 27.3 seconds RetCode: 0 Status: OK