Package: BioNERO Version: 1.10.3 Command: /home/biocbuild/bbs-3.18-bioc/R/bin/R CMD build --keep-empty-dirs --no-resave-data BioNERO StartedAt: 2024-04-15 16:12:48 -0400 (Mon, 15 Apr 2024) EndedAt: 2024-04-15 16:17:33 -0400 (Mon, 15 Apr 2024) EllapsedTime: 284.6 seconds RetCode: 0 Status: OK PackageFile: BioNERO_1.10.3.tar.gz PackageFileSize: 4.578 MiB