Package: BioCartaImage Version: 1.0.0 Command: /home/biocbuild/bbs-3.18-bioc/R/bin/R CMD check --install=check:BioCartaImage.install-out.txt --library=/home/biocbuild/bbs-3.18-bioc/R/site-library --timings BioCartaImage_1.0.0.tar.gz StartedAt: 2024-04-15 20:28:22 -0400 (Mon, 15 Apr 2024) EndedAt: 2024-04-15 20:28:54 -0400 (Mon, 15 Apr 2024) EllapsedTime: 32.0 seconds RetCode: 0 Status: OK CheckDir: BioCartaImage.Rcheck Warnings: 0