Package: BioCartaImage Version: 1.0.0 Command: /Library/Frameworks/R.framework/Resources/bin/R CMD build --keep-empty-dirs --no-resave-data BioCartaImage StartedAt: 2024-03-03 16:00:26 -0500 (Sun, 03 Mar 2024) EndedAt: 2024-03-03 16:00:41 -0500 (Sun, 03 Mar 2024) EllapsedTime: 14.8 seconds RetCode: 0 Status: OK PackageFile: BioCartaImage_1.0.0.tar.gz PackageFileSize: 3.627 MiB