Package: BgeeDB Version: 2.28.0 Command: /home/biocbuild/bbs-3.18-bioc/R/bin/R CMD INSTALL BgeeDB StartedAt: 2024-04-15 15:22:42 -0400 (Mon, 15 Apr 2024) EndedAt: 2024-04-15 15:23:01 -0400 (Mon, 15 Apr 2024) EllapsedTime: 18.3 seconds RetCode: 0 Status: OK