Package: BgeeDB Version: 2.28.0 Command: rm -rf BgeeDB.buildbin-libdir && mkdir BgeeDB.buildbin-libdir && /Users/biocbuild/BBS/utils/build-universal.sh BgeeDB_2.28.0.tar.gz /Library/Frameworks/R.framework/Resources/bin/R BgeeDB.buildbin-libdir StartedAt: 2024-03-04 00:30:28 -0500 (Mon, 04 Mar 2024) EndedAt: 2024-03-04 00:30:58 -0500 (Mon, 04 Mar 2024) EllapsedTime: 30.4 seconds RetCode: 0 Status: OK PackageFile: BgeeDB_2.28.0.tgz PackageFileSize: 337.1 KiB