Package: BeadDataPackR Version: 1.54.0 Command: /Library/Frameworks/R.framework/Resources/bin/R CMD build --keep-empty-dirs --no-resave-data BeadDataPackR StartedAt: 2024-04-15 17:03:55 -0400 (Mon, 15 Apr 2024) EndedAt: 2024-04-15 17:04:15 -0400 (Mon, 15 Apr 2024) EllapsedTime: 20.3 seconds RetCode: 0 Status: OK PackageFile: BeadDataPackR_1.54.0.tar.gz PackageFileSize: 235.3 KiB