Package: BayesSpace Version: 1.12.0 Command: /home/biocbuild/bbs-3.18-bioc/R/bin/R CMD build --keep-empty-dirs --no-resave-data BayesSpace StartedAt: 2024-04-15 16:04:32 -0400 (Mon, 15 Apr 2024) EndedAt: 2024-04-15 16:06:46 -0400 (Mon, 15 Apr 2024) EllapsedTime: 134.2 seconds RetCode: 0 Status: OK PackageFile: BayesSpace_1.12.0.tar.gz PackageFileSize: 1.113 MiB