Package: BayesSpace Version: 1.12.0 Command: /home/biocbuild/R/R-4.3.1/bin/R CMD INSTALL BayesSpace StartedAt: 2023-11-01 21:01:31 -0000 (Wed, 01 Nov 2023) EndedAt: 2023-11-01 21:03:05 -0000 (Wed, 01 Nov 2023) EllapsedTime: 94.2 seconds RetCode: 0 Status: OK