Package: BayesKnockdown Version: 1.28.0 Command: /Library/Frameworks/R.framework/Resources/bin/R CMD build --keep-empty-dirs --no-resave-data BayesKnockdown StartedAt: 2024-04-15 17:02:03 -0400 (Mon, 15 Apr 2024) EndedAt: 2024-04-15 17:02:22 -0400 (Mon, 15 Apr 2024) EllapsedTime: 19.3 seconds RetCode: 0 Status: OK PackageFile: BayesKnockdown_1.28.0.tar.gz PackageFileSize: 211.6 KiB