Package: BatchQC Version: 1.30.0 Command: /home/biocbuild/bbs-3.18-bioc/R/bin/R CMD INSTALL BatchQC StartedAt: 2024-04-15 15:42:40 -0400 (Mon, 15 Apr 2024) EndedAt: 2024-04-15 15:43:07 -0400 (Mon, 15 Apr 2024) EllapsedTime: 27.1 seconds RetCode: 0 Status: OK