Package: BatchQC Version: 1.30.0 Command: /Library/Frameworks/R.framework/Resources/bin/R CMD INSTALL BatchQC StartedAt: 2024-04-15 16:22:58 -0400 (Mon, 15 Apr 2024) EndedAt: 2024-04-15 16:23:55 -0400 (Mon, 15 Apr 2024) EllapsedTime: 57.2 seconds RetCode: 0 Status: OK