Package: BatchQC Version: 1.30.0 Command: /Library/Frameworks/R.framework/Resources/bin/R CMD INSTALL BatchQC StartedAt: 2024-03-03 15:38:04 -0500 (Sun, 03 Mar 2024) EndedAt: 2024-03-03 15:38:42 -0500 (Sun, 03 Mar 2024) EllapsedTime: 38.0 seconds RetCode: 0 Status: OK