Package: BatchQC Version: 1.30.0 Command: /Library/Frameworks/R.framework/Resources/bin/R CMD check --install=check:BatchQC.install-out.txt --library=/Library/Frameworks/R.framework/Resources/library --no-vignettes --timings BatchQC_1.30.0.tar.gz StartedAt: 2024-03-03 19:04:34 -0500 (Sun, 03 Mar 2024) EndedAt: 2024-03-03 19:08:15 -0500 (Sun, 03 Mar 2024) EllapsedTime: 220.3 seconds RetCode: 0 Status: OK CheckDir: BatchQC.Rcheck Warnings: 0