Package: BatchQC Version: 1.30.0 Command: /Library/Frameworks/R.framework/Resources/bin/R CMD build --keep-empty-dirs --no-resave-data BatchQC StartedAt: 2024-03-03 15:57:01 -0500 (Sun, 03 Mar 2024) EndedAt: 2024-03-03 15:57:55 -0500 (Sun, 03 Mar 2024) EllapsedTime: 54.6 seconds RetCode: 0 Status: OK PackageFile: BatchQC_1.30.0.tar.gz PackageFileSize: 1.468 MiB