Package: BasicSTARRseq Version: 1.30.0 Command: /Library/Frameworks/R.framework/Resources/bin/R CMD build --keep-empty-dirs --no-resave-data BasicSTARRseq StartedAt: 2024-03-03 15:56:42 -0500 (Sun, 03 Mar 2024) EndedAt: 2024-03-03 15:57:31 -0500 (Sun, 03 Mar 2024) EllapsedTime: 49.7 seconds RetCode: 0 Status: OK PackageFile: BasicSTARRseq_1.30.0.tar.gz PackageFileSize: 551.5 KiB