Package: BasicSTARRseq Version: 1.30.0 Command: rm -rf BasicSTARRseq.buildbin-libdir && mkdir BasicSTARRseq.buildbin-libdir && /Users/biocbuild/BBS/utils/build-universal.sh BasicSTARRseq_1.30.0.tar.gz /Library/Frameworks/R.framework/Resources/bin/R BasicSTARRseq.buildbin-libdir StartedAt: 2024-03-04 00:29:52 -0500 (Mon, 04 Mar 2024) EndedAt: 2024-03-04 00:30:31 -0500 (Mon, 04 Mar 2024) EllapsedTime: 39.2 seconds RetCode: 0 Status: OK PackageFile: BasicSTARRseq_1.30.0.tgz PackageFileSize: 803.9 KiB