Package: BUSseq Version: 1.8.0 Command: /Library/Frameworks/R.framework/Resources/bin/R CMD build --keep-empty-dirs --no-resave-data BUSseq StartedAt: 2024-04-15 17:25:03 -0400 (Mon, 15 Apr 2024) EndedAt: 2024-04-15 17:27:42 -0400 (Mon, 15 Apr 2024) EllapsedTime: 159.0 seconds RetCode: 0 Status: OK PackageFile: BUSseq_1.8.0.tar.gz PackageFileSize: 977.5 KiB