Package: BUSseq Version: 1.8.0 Command: rm -rf BUSseq.buildbin-libdir && mkdir BUSseq.buildbin-libdir && /Users/biocbuild/BBS/utils/build-universal.sh BUSseq_1.8.0.tar.gz /Library/Frameworks/R.framework/Resources/bin/R BUSseq.buildbin-libdir StartedAt: 2024-04-16 11:08:50 -0400 (Tue, 16 Apr 2024) EndedAt: 2024-04-16 11:10:06 -0400 (Tue, 16 Apr 2024) EllapsedTime: 75.9 seconds RetCode: 0 Status: OK PackageFile: BUSseq_1.8.0.tgz PackageFileSize: 963.2 KiB