Package: BUScorrect Version: 1.20.0 Command: /Library/Frameworks/R.framework/Resources/bin/R CMD check --install=check:BUScorrect.install-out.txt --library=/Library/Frameworks/R.framework/Resources/library --no-vignettes --timings BUScorrect_1.20.0.tar.gz StartedAt: 2024-04-16 00:12:17 -0400 (Tue, 16 Apr 2024) EndedAt: 2024-04-16 00:18:32 -0400 (Tue, 16 Apr 2024) EllapsedTime: 375.7 seconds RetCode: 0 Status: OK CheckDir: BUScorrect.Rcheck Warnings: 0