Package: BUScorrect Version: 1.20.0 Command: rm -rf BUScorrect.buildbin-libdir && mkdir BUScorrect.buildbin-libdir && /Users/biocbuild/BBS/utils/build-universal.sh BUScorrect_1.20.0.tar.gz /Library/Frameworks/R.framework/Resources/bin/R BUScorrect.buildbin-libdir StartedAt: 2024-04-16 11:08:43 -0400 (Tue, 16 Apr 2024) EndedAt: 2024-04-16 11:10:00 -0400 (Tue, 16 Apr 2024) EllapsedTime: 76.9 seconds RetCode: 0 Status: OK PackageFile: BUScorrect_1.20.0.tgz PackageFileSize: 3.599 MiB